Workbook

Sheet Zasady i metodyka
A1: TABELA WYMAGAŃ ENISA TECHNICAL IMPLEMENTATION GUIDANCE — WERSJA POLSKA
A2: Narzędzie do analizy ryzyka i wdrażania zabezpieczeń NIS2 / UoKSC / CRA · wersja 09.2026 · LT MASTERY
A4: O DOKUMENCIE
A5: Źródło | B5: European Union Agency for Cybersecurity (ENISA), "Technical implementation guidance" na temat rozporządzenia wykonawczego Komisji (UE) 2024/2690 z 17 października 2024 r., ustanawiającego szczegółowe wymagania techniczne i metodyczne środków zarządzania ryzykiem cyberbezpieczeństwa na podstawie art. 21 ust. 2 dyrektywy NIS2 (UE) 2022/2555. Czerwiec 2025, wersja 1.0. ISBN 978-92-9204-704-7, doi:10.2824/2702548. Dokument opublikowany na licencji CC BY 4.0 (enisa.europa.eu).
A6: Zakres rozporządzenia 2024/2690 | B6: Rozporządzenie stosuje się bezpośrednio (bez implementacji krajowej) do wskazanych podmiotów sektora infrastruktury cyfrowej i zarządzania usługami ICT o charakterze transgranicznym: dostawcy DNS, rejestry nazw domen najwyższego poziomu (TLD), dostawcy usług chmurowych, dostawcy usług ośrodka przetwarzania danych (data centre), dostawcy sieci dostarczania treści (CDN), dostawcy usług zarządzanych i zarządzanych usług bezpieczeństwa (MSP/MSSP), dostawcy platform rynków internetowych, wyszukiwarek i serwisów sieci społecznościowych oraz dostawcy usług zaufania. Dla pozostałych podmiotów kluczowych i ważnych objętych UoKSC wymagania techniczne określa rozporządzenie Rady Ministrów wydane na podstawie UoKSC — treść merytoryczna obu regulacji jest w znacznej mierze zbieżna, dlatego niniejsza tabela jest przydatna także jako materiał pomocniczy do analizy ryzyka w rozumieniu UoKSC, nie zastępuje jednak analizy zgodności z właściwym rozporządzeniem krajowym.
A7: Status prawny wytycznych | B7: Wytyczne ENISA mają charakter niewiążący i doradczy (pkt "DISCLAIMER" oryginału). Nie zastępują przepisów rozporządzenia 2024/2690 ani wytycznych właściwego organu krajowego. Same "przykłady dowodów" nie przesądzają o zgodności — organ nadzoru może przyjąć inne lub dodatkowe dowody.
A8: Tłumaczenie | B8: Treść wymagań, wytycznych, przykładów dowodów i wskazówek to tłumaczenie własne z oryginału angielskiego, sporządzone na potrzeby szkoleniowe i wewnętrzne. W razie wątpliwości interpretacyjnych rozstrzyga wersja angielska publikacji ENISA oraz oficjalny polski tekst rozporządzenia 2024/2690 (Dz. Urz. UE).
A10: METODYKA POWIĄZANIA Z PN-EN ISO/IEC 27001:2023 — DWIE KOLUMNY
A11: Kolumna H — oficjalne mapowanie ENISA (poziom sekcji) | B11: Od wersji z 08.09.2026 tabela zawiera prawdziwą, oficjalną tabelę mapującą ENISA: "ENISA Technical Implementation Guidance Mapping table", wersja 1.2 (21.08.2025), pobraną bezpośrednio ze strony enisa.europa.eu/publications/nis2-technical-implementation-guidance (plik dodatkowy pod publikacją). Kolumna H zawiera treść kolumny "ISO standard 27001:2022" z tego pliku, bez zmian poza normalizacją zapisu numerów (np. "A5.7" → "A.5.7"). WAŻNE: oficjalna tabela ENISA mapuje na poziomie CAŁEJ SEKCJI (np. "3.2 Monitoring and logging", 49 sekcji łącznie), a nie każdego pojedynczego wymagania (punktu) osobno — dlatego wszystkie wiersze należące do jednej sekcji mają w kolumnie H identyczną wartość. To jest źródło NADRZĘDNE — w razie rozbieżności z kolumną G należy kierować się kolumną H.
A12: Kolumna G — powiązanie własne (poziom pojedynczego wymagania) | B12: Kolumna G to opracowanie WŁASNE — próba rozbicia mapowania ENISA na poziom pojedynczego wymagania (punktu), a nie całej sekcji, oparta na oficjalnej liście 93 zabezpieczeń i 33 podpunktów klauzul z Państwa pliku referencyjnego "PN-EN ISOIEC 270012023_Załącznik_A.xlsx". Weryfikacja porównawcza (zestawienie 49 sekcji) wykazała: 21 sekcji pełną zgodność z kolumną H, 23 sekcje częściową zgodność (kolumna G zawiera dodatkowe lub inaczej rozłożone pozycje), 5 sekcji bez pokrycia (2.1, 3.1, 5.2, 7.1, 9.1) — w tych przypadkach proszę kierować się wyłącznie kolumną H. Kolumna G bywa użyteczna do wskazania, KTÓRE konkretnie wymaganie w ramach sekcji odpowiada danemu zabezpieczeniu, ale nie jest samodzielnym źródłem prawdy.
A13: Zakres oficjalnej tabeli ENISA | B13: Oficjalny plik ENISA mapuje też na NIST CSF 2.0, ETSI EN 319 401, CEN/TS 18026:2024 oraz krajowe ramy Belgii (CyFun), Finlandii (Kybermittari), Grecji, Hiszpanii (ENS) i Francji — te kolumny nie zostały przeniesione do niniejszej tabeli (poza zakresem zlecenia), ale plik źródłowy jest dostępny do wglądu, jeśli przydałby się przy innych szkoleniach.
A15: JAK KORZYSTAĆ Z TABELI
A16: Struktura | B16: Arkusz "Tabela ENISA TIG" zawiera 161 wymagań pogrupowanych w 13 rozdziałów (zgodnie z Załącznikiem do rozporządzenia 2024/2690) i ich sekcje — wiersze rozdziałów (granat) i sekcji (jasny błękit) pełnią funkcję nagłówków porządkujących, tak jak w Państwa "Check-liście audytowej NIS2/UoKSC". Kolumna H (żółte tło) to oficjalne mapowanie ENISA v1.2.
A17: Kolumny do wypełnienia przez uczestnika/audytora | B17: STATUS (lista rozwijana, kolumna J), Ocena ryzyka / luki (kolumna K), Priorytet (lista rozwijana, kolumna L), Właściciel zabezpieczenia, Dowód / lokalizacja dokumentu, Uwagi audytora. Pozostałe kolumny to materiał źródłowy — nie edytować, chyba że w ramach własnej korekty merytorycznej.
A18: Pulpit | B18: Arkusz "Pulpit" liczy automatycznie (formuły COUNTIF) rozkład statusów i % zgodności per rozdział, na podstawie wypełnionej kolumny STATUS — analogicznie do Państwa "Pulpitu postępu" w check-liście UoKSC.
A19: Zastosowanie w szkoleniu | B19: Tabelę można wykorzystać jako: (1) checklistę do warsztatowej analizy luk (gap analysis) równolegle do Ćwiczenia 4 (Analiza luk), (2) bazę do budowy rejestru ryzyk (Ćwiczenie 3) — kolumny "Wymaganie"/"Przykładowe dowody" podpowiadają zagrożenia i wymagany dowód, (3) materiał uzupełniający do pliku "PN-EN ISOIEC 270012023_Załącznik_A.xlsx" przy pracy nad SZBI.

Sheet Tabela ENISA TIG
A1: ENISA TECHNICAL IMPLEMENTATION GUIDANCE (2024/2690) — TABELA WYMAGAŃ, WYTYCZNYCH I DOWODÓW (PL)
A2: Tłumaczenie i opracowanie na potrzeby analizy ryzyka i wdrażania zabezpieczeń NIS2/UoKSC/CRA — na podstawie ENISA "Technical implementation guidance", czerwiec 2025, wersja 1.0, oraz oficjalnej "ENISA Technical Implementation Guidance Mapping table", wersja 1.2 (21.08.2025) · stan na 08.09.2026
A3: Lp. | B3: ID | C3: Wymaganie (treść wymagania z rozporządzenia) | D3: Wytyczne wdrożeniowe | E3: Przykładowe dowody | F3: Dodatkowe wskazówki | G3: Powiązanie ISO/IEC 27001:2023 — własne, orientacyjne (poziom wymagania) | H3: Oficjalne mapowanie ENISA v1.2 — ISO/IEC 27001:2022 (poziom sekcji) | I3: Źródła dodatkowe / normy przywołane | J3: STATUS | K3: Ocena ryzyka / luki | L3: Priorytet | M3: Właściciel zabezpieczenia | N3: Dowód / lokalizacja dokumentu | O3: Uwagi audytora / komentarz
A4: ROZDZIAŁ 1. POLITYKA BEZPIECZEŃSTWA SIECI I SYSTEMÓW INFORMATYCZNYCH
A5: 1.1 Polityka bezpieczeństwa sieci i systemów informatycznych
A6: 1 | B6: 1.1.1 | C6: Na potrzeby art. 21 ust. 2 lit. a) dyrektywy (UE) 2022/2555 polityka bezpieczeństwa sieci i systemów informatycznych: (a) określa podejście właściwych podmiotów do zarządzania bezpieczeństwem ich sieci i systemów informatycznych; (b) jest odpowiednia i komplementarna względem strategii biznesowej i celów właściwych podmiotów; (c) określa cele bezpieczeństwa sieci i informacji; (d) zawiera zobowiązanie do ciągłego doskonalenia bezpieczeństwa sieci i systemów informatycznych; (e) zawiera zobowiązanie do zapewnienia odpowiednich zasobów niezbędnych do jej wdrożenia, w tym niezbędnego personelu, zasobów finansowych, procesów, narzędzi i technologii; (f) jest komunikowana odpowiednim pracownikom i odpowiednim zainteresowanym stronom zewnętrznym oraz przez nich potwierdzana; (g) określa role i zakresy odpowiedzialności zgodnie z pkt 1.2; (h) zawiera wykaz dokumentacji, która ma być przechowywana, oraz okres jej przechowywania; (i) zawiera wykaz polityk tematycznych; (j) określa wskaźniki i mierniki służące do monitorowania jej wdrożenia oraz aktualnego poziomu dojrzałości właściwych podmiotów w zakresie bezpieczeństwa sieci i informacji; (k) wskazuje datę formalnego zatwierdzenia przez kierownictwo właściwych podmiotów („kierownictwo”). | D6: • Ustanowić politykę bezpieczeństwa sieci i systemów informatycznych obejmującą wszystkie systemy, aktywa i procedury wchodzące w zakres polityki. • Zapewnić, aby odpowiedni personel i odpowiednie zainteresowane strony zewnętrzne potwierdzały zapoznanie się z polityką bezpieczeństwa sieci i systemów informatycznych, zazwyczaj poprzez podpisany dokument lub potwierdzenie cyfrowe, w stosownych przypadkach. • W zależności od kontekstu strony zewnętrzne mogą oznaczać dostawców, usługodawców, akcjonariuszy, organy władzy, gości, zewnętrzne grupy interesu lub fora. • Potwierdzenie zapoznania się może zostać zawarte w innych umowach, takich jak umowy o pracę lub umowy o świadczenie usług. • Polityka powinna być komunikowana odpowiedniemu personelowi i zainteresowanym stronom zewnętrznym w formie odpowiedniej, dostępnej i zrozumiałej dla odbiorcy. • Odpowiedni personel i odpowiednie zainteresowane strony zewnętrzne mogą nie zostać zapoznane z pełną treścią polityki. W zależności od pełnionej roli należy komunikować i potwierdzać wyciąg lub streszczenie zawierające jedynie istotne informacje. Jeśli polityka jest rozpowszechniana poza podmiotem, należy zachować ostrożność, aby nie ujawnić informacji poufnych. • W odniesieniu do wymogów umownych wobec bezpośrednich dostawców i usługodawców patrz pkt 5.1.4 załącznika do rozporządzenia. • Zapewnić, aby personel był świadomy swoich obowiązków w zakresie bezpieczeństwa sieci i systemów informatycznych. • Zapewnić, aby polityka bezpieczeństwa sieci i systemów informatycznych była zatwierdzana przez kierownictwo. • Zapewnić, aby polityki tematyczne były zatwierdzane przez odpowiedni szczebel kierownictwa. • Zapewnić, aby polityka zawierała szczegółowe wytyczne dotyczące procedur zarządzania wyjątkami od polityki. | E6: • Udokumentowana polityka bezpieczeństwa sieci i systemów informatycznych, zawierająca elementy wymagane w pkt 1.1.1 lit. a)–k) załącznika do rozporządzenia. • Data formalnego zatwierdzenia przez kierownictwo właściwych podmiotów, wskazana w polityce bezpieczeństwa sieci i systemów informatycznych. • W stosownych przypadkach formularze potwierdzenia zapoznania się lub umowy o pracę, podpisane przez personel, potwierdzające, że zapoznał się on i zrozumiał polityki bezpieczeństwa. • W stosownych przypadkach formularze potwierdzenia zapoznania się, umowy o świadczenie usług lub inne umowy, podpisane przez odpowiednie zainteresowane strony zewnętrzne, potwierdzające, że zapoznały się one i zrozumiały polityki bezpieczeństwa. • Dowody, że kierownictwo rozumie swoją rolę, obowiązki i uprawnienia w zakresie bezpieczeństwa sieci i informacji. Może to obejmować między innymi: • alokację zasobów na wdrożenie polityki; • żądania (np. ogłoszenia, e-maile i dokumenty) skierowane do personelu w celu stosowania bezpieczeństwa sieci i informacji zgodnie z ustanowionymi politykami i procedurami; oraz • wszelkie inicjatywy wskazujące, że kierownictwo promuje doskonalenie w obszarze bezpieczeństwa sieci i informacji. | G6: 5.2 Polityka; A.5.1 Polityki bezpieczeństwa informacji | H6: 5.2, A.5.1, A.5.36, A.5.4, 9.3
A7: 2 | B7: 1.1.2 | C7: Polityka bezpieczeństwa sieci i systemów informatycznych jest przeglądana i, w stosownych przypadkach, aktualizowana przez kierownictwo co najmniej raz w roku oraz w przypadku wystąpienia poważnych incydentów lub istotnych zmian w działalności lub w ryzyku. Wyniki przeglądów są dokumentowane. | D7: • Dokonywać przeglądu polityki bezpieczeństwa sieci i systemów informatycznych co najmniej raz w roku, uwzględniając (wykaz przykładowy, niewyczerpujący): • aktualizacje wyników szacowania ryzyka i planu postępowania z ryzykiem (pkt 2.1.4 załącznika do rozporządzenia); • istotne zmiany w przepisach prawa (ustawy, rozporządzenia i inne środki nakładane przez krajowe organy właściwe); • zalecenia wydane przez właściwe organy; • istotne zmiany w dobrych praktykach branżowych; • informacje zwrotne od zainteresowanych stron; • ustalenia z monitorowania zgodności (sekcja 2.2) oraz niezależnych przeglądów (pkt 2.3 załącznika do rozporządzenia), w tym naruszenia polityki lub wyjątki od polityki; • incydenty, także te dotyczące podobnych podmiotów w sektorze. • Aktualizować politykę bezpieczeństwa sieci i systemów informatycznych oraz polityki tematyczne, zgodnie z nowymi ustaleniami, które mogą wpłynąć na podejście podmiotu do zarządzania bezpieczeństwem informacji, w tym (9): • aktualizacje wyników szacowania ryzyka i planu postępowania z ryzykiem (pkt 2.1.4 załącznika do rozporządzenia); • zmiany w sieciach i systemach informatycznych; • zmiany w środowisku eksploatacji; • problemy zidentyfikowane podczas wdrażania polityki; • ustalenia z monitorowania zgodności (pkt 2.2.1 załącznika do rozporządzenia) oraz niezależnych przeglądów (pkt 2.3 załącznika do rozporządzenia), w tym naruszenia polityki lub wyjątki od polityki; • status działań zapobiegawczych i korygujących; • trendy związane z zagrożeniami i podatnościami; oraz • zgłoszone znane incydenty bezpieczeństwa. • Wszelkie aktualizacje polityki powinny opierać się na unikatowych ryzykach bezpieczeństwa danego podmiotu, zidentyfikowanych w toku jego szacowania ryzyka. • Uzyskać zatwierdzenie zmienionej polityki oraz wyjątków od polityki przez kierownictwo. | E7: • Komentarze z przeglądu lub rejestry zmian dotyczące polityki bezpieczeństwa sieci i systemów informatycznych oraz polityk tematycznych. • Dokumentacja procesu przeglądu wymogów wymienionych w pkt 1.1.1 załącznika do rozporządzenia. • Aktualna polityka bezpieczeństwa sieci i systemów informatycznych oraz aktualne polityki tematyczne. • Dowody, że wszelkie aktualizacje polityki bezpieczeństwa sieci i systemów informatycznych oraz wszelkie wyjątki od polityki są zatwierdzane przez kierownictwo, a zapis jest przechowywany. • Dowody, że wszelkie aktualizacje polityk tematycznych są zatwierdzane przez odpowiedni szczebel kierownictwa, a zapis jest przechowywany. • Zapisy z przeglądu zarządzania. | F7: • Poniższe wskazówki (TIPS) dotyczą całej sekcji 1.1: • Przeanalizować politykę bezpieczeństwa sieci i systemów informatycznych pod kątem zgodności z: • wymogami ustawowymi, regulacyjnymi i umownymi; • wymogami dotyczącymi świadomości i szkoleń (pkt 8.1 i 8.2 załącznika do rozporządzenia); oraz • wymogami dotyczącymi ciągłości działania (pkt 4.1 załącznika do rozporządzenia). • Określić procedury ułatwiające wdrożenie polityki bezpieczeństwa sieci i systemów informatycznych oraz powiązanych środków. • Zbadać dokumentację przeglądów po incydentach dla poważnych incydentów (10), obejmującą udział i wkład kierownictwa. • Zapewnić, aby polityka była: • chroniona pod względem poufności (na zasadzie wiedzy koniecznej), integralności, dostępności i autentyczności; • właściwie zarządzana, tak aby informacje były kompletne, poprawne, zrozumiałe, łatwe do zidentyfikowania i odzyskania. • Przykłady dowodów wskazane w bloku TIPS: • Udokumentowana polityka bezpieczeństwa sieci i systemów informatycznych, obejmująca sieci i usługi objęte zakresem, wspierające je aktywa oraz cele bezpieczeństwa, w tym obowiązujące przepisy prawa, dostępna dla personelu. • Udokumentowane polityki tematyczne, w tym obowiązujące przepisy prawa, dostępne dla odpowiedniego personelu. • Dowody szkoleń z zakresu cyberbezpieczeństwa dla kierownictwa, na przykład: • zapisy szkoleń; • uczestnictwo w warsztatach i seminariach; oraz • materiały do nauki ciągłej. • Wewnętrzne dzienniki komunikacji, doraźne raporty lub polityka komunikacji, lub zapisy pokazujące regularne odprawy lub aktualizacje przekazywane kierownictwu w sprawach cyberbezpieczeństwa lub podczas poważnych incydentów. | G7: 5.2 Polityka; 9.3.1 Przegląd zarządzania – postanowienia ogólne; A.5.1 Polityki bezpieczeństwa informacji | H7: 5.2, A.5.1, A.5.36, A.5.4, 9.3
A8: 1.2 Role, odpowiedzialność i uprawnienia
A9: 3 | B9: 1.2.1 | C9: W ramach swojej polityki bezpieczeństwa sieci i systemów informatycznych, o której mowa w pkt 1.1, właściwe podmioty określają zakresy odpowiedzialności i uprawnienia w zakresie bezpieczeństwa sieci i systemów informatycznych oraz przypisują je do ról, przydzielają je stosownie do potrzeb właściwych podmiotów i komunikują je kierownictwu. | D9: • Sporządzać opisy stanowisk w sposób jasno określający prawa i obowiązki. • Przypisywać role i obowiązki związane z bezpieczeństwem do personelu oraz uwzględniać te role w schemacie organizacyjnym. • Opisywać role i przypisywać odpowiadające im obowiązki (np. dyrektor ds. bezpieczeństwa informacji), w oparciu o wytyczne międzynarodowych ram i norm, w tym europejskie ramy kompetencji cyberbezpieczeństwa (ECSF) (11). • Zapewnić, aby przydzielone role były odpowiednie do wielkości i potrzeb biznesowych podmiotu. • Formalnie powoływać kompetentny personel na role związane z bezpieczeństwem. Zapewnić, aby wyznaczone osoby były kompetentne na podstawie odpowiedniego wykształcenia, szkoleń lub doświadczenia. | E9: • Opisy stanowisk. • Wykaz ról związanych z bezpieczeństwem, osób je zajmujących oraz danych kontaktowych. • Formalne powołanie na kluczowe role i obowiązki związane z bezpieczeństwem, na przykład wymienione w schemacie organizacyjnym firmy lub decyzji kierownictwa itp. • Wykaz powołań oraz opis obowiązków i zadań dla ról związanych z bezpieczeństwem. • Dowody kompetencji wyznaczonych osób. | G9: 5.3 Role, odpowiedzialność i uprawnienia; A.5.2 Role i odpowiedzialność za bezpieczeństwo informacji | H9: 5.3, A.5.2, A.5.3, A.5.4 | I9: Europejskie ramy kompetencji cyberbezpieczeństwa (European Cybersecurity Skills Framework, ECSF) ENISA
A10: 4 | B10: 1.2.2 | C10: Właściwe podmioty wymagają od całego personelu i stron trzecich stosowania zasad bezpieczeństwa sieci i systemów informatycznych zgodnie z ustanowioną polityką bezpieczeństwa sieci i informacji, politykami tematycznymi oraz procedurami właściwych podmiotów. | D10: • Zapewnić, aby personel znał role związane z bezpieczeństwem w podmiocie oraz wiedział, kiedy należy się z daną rolą kontaktować. • Zapewnić, aby personel znał swoje obowiązki w zakresie bezpieczeństwa sieci i systemów informatycznych, stosownie do pełnionej roli. W kwestii postępowania dyscyplinarnego patrz pkt 10.4 załącznika do rozporządzenia. • Zapewnić, aby odpowiednie zainteresowane strony zewnętrzne znały swoje obowiązki w zakresie bezpieczeństwa sieci i systemów informatycznych. • W odniesieniu do wymogów umownych wobec bezpośrednich dostawców i usługodawców patrz pkt 5.1.4 załącznika do rozporządzenia. • Należy uwzględnić strony trzecie, czyli podmioty zewnętrzne lub organizacje niezaangażowane bezpośrednio w działalność podmiotu objętego zakresem, lecz które mogą mimo to wpływać na bezpieczeństwo jego sieci i informacji. Przykłady odpowiednich zainteresowanych stron zewnętrznych – patrz wytyczne w sekcji 1.1. • Wymóg stosowania przez cały personel i strony trzecie zasad bezpieczeństwa sieci i systemów informatycznych powinien być komunikowany w formie odpowiedniej, dostępnej i zrozumiałej dla odbiorcy. • Polityka bezpieczeństwa sieci i informacji, polityki tematyczne oraz procedury właściwych podmiotów niekoniecznie muszą być komunikowane w całości. | E10: • Materiały informacyjne/upowszechniające dla personelu, wyjaśniające role związane z bezpieczeństwem oraz sposób i moment kontaktu z nimi. • Umowy o gwarantowanym poziomie usług (SLA), umowy zlecenia, umowy powierzenia przetwarzania danych lub inne rodzaje umów lub porozumień ze stronami trzecimi. • Potwierdzenie od stron trzecich w różnych formach (pisma, e-maile, portale lub inne rozwiązania online), potwierdzające, że otrzymały i rozumieją swoje obowiązki związane z bezpieczeństwem sieci i systemów informatycznych, w przypadkach gdy takie wymogi nie są objęte ustaleniami umownymi. | G10: A.5.2 Role i odpowiedzialność za bezpieczeństwo informacji; A.5.20 Uwzględnianie bezpieczeństwa informacji w porozumieniach z dostawcami | H10: 5.3, A.5.2, A.5.3, A.5.4
A11: 5 | B11: 1.2.3 | C11: Co najmniej jedna osoba raportuje bezpośrednio kierownictwu w sprawach dotyczących bezpieczeństwa sieci i systemów informatycznych. | D11: • Wyznaczyć osobę (np. dyrektora ds. bezpieczeństwa informacji lub kierownika ds. bezpieczeństwa informacji) odpowiedzialną za nadzór nad sprawami bezpieczeństwa sieci i informacji. • Zapewnić, aby ta rola była uznawana i należycie autoryzowana przez kierownictwo. | E11: • Aktualna dokumentacja struktury przypisania ról i obowiązków związanych z bezpieczeństwem. • Protokoły ze spotkań z kierownictwem. • Dowody podjętych decyzji biznesowych (np. inwestycje w cyberbezpieczeństwo). | G11: 5.3 Role, odpowiedzialność i uprawnienia; A.5.2 Role i odpowiedzialność za bezpieczeństwo informacji | H11: 5.3, A.5.2, A.5.3, A.5.4
A12: 6 | B12: 1.2.4 | C12: W zależności od wielkości właściwych podmiotów, bezpieczeństwo sieci i systemów informatycznych jest zapewniane przez dedykowane role lub zadania wykonywane dodatkowo w ramach istniejących ról. | D12: • Często praktyczne jest posiadanie dedykowanych ról związanych z bezpieczeństwem informacji (np. dyrektor ds. bezpieczeństwa informacji lub analitycy bezpieczeństwa), którzy zajmują się wyłącznie ochroną danych i systemów podmiotu. • W podmiotach o ograniczonych zasobach obowiązki w zakresie bezpieczeństwa informacji mogą być rozłożone na istniejące role. Na przykład personel działu informatycznego (IT) może przejąć obowiązki związane z bezpieczeństwem obok swoich zwykłych zadań. Jednak wyznaczone osoby powinny mieć odpowiednie doświadczenie i przeszkolenie do pełnienia tych ról i wykonywania swoich obowiązków. | E12: • Sprawdzenie obecności dedykowanych ról związanych z bezpieczeństwem w większych podmiotach. • Sprawdzenie, czy obowiązki związane z bezpieczeństwem są przypisane do istniejących ról w mniejszych podmiotach. | G12: A.5.2 Role i odpowiedzialność za bezpieczeństwo informacji | H12: 5.3, A.5.2, A.5.3, A.5.4
A13: 7 | B13: 1.2.5 | C13: Sprzeczne obowiązki i sprzeczne obszary odpowiedzialności są rozdzielane, w stosownych przypadkach. | D13: • Rozważyć rozdzielenie sprzecznych obowiązków i obszarów odpowiedzialności, aby ograniczyć możliwości nieuprawnionej lub niezamierzonej modyfikacji lub niewłaściwego użycia aktywów podmiotu. Jako minimum należy uwzględnić, że osoba dokonująca przeglądu (audytor) musi być inna niż personel lub linia podległości obszaru objętego przeglądem. • Wyniki szacowania ryzyka lub analizy wpływu na działalność (BIA) mogą zostać wykorzystane do zidentyfikowania potencjalnie sprzecznych obowiązków i obszarów odpowiedzialności. | E13: • Aktualna dokumentacja struktury przypisania ról i obowiązków związanych z bezpieczeństwem. | G13: A.5.3 Rozdzielanie obowiązków | H13: 5.3, A.5.2, A.5.3, A.5.4
A14: 8 | B14: 1.2.6 | C14: Role, obowiązki i uprawnienia są przeglądane i, w stosownych przypadkach, aktualizowane przez kierownictwo w zaplanowanych odstępach czasu oraz w przypadku wystąpienia poważnych incydentów lub istotnych zmian w działalności lub w ryzyku. | D14: • Regularnie dokonywać przeglądu i weryfikacji struktury ról i obowiązków związanych z bezpieczeństwem, w oparciu o (wykaz przykładowy, niewyczerpujący): • poważne incydenty, jeśli wystąpiły; • zmiany w środowisku eksploatacji, w tym zmiany w sieciach i systemach informatycznych; • zmiany organizacyjne. • W stosownych przypadkach aktualizacje powinny być zatwierdzane przez kierownictwo. | E14: • Aktualna dokumentacja struktury przypisania ról i obowiązków związanych z bezpieczeństwem, w tym historia wersji. • Dokumentacja procesu przeglądu, uwzględniająca zmiany i wcześniejsze incydenty. | F14: • Poniższe wskazówki (TIPS) dotyczą całej sekcji 1.2: • Zapewnić, aby role odpowiedzialne za bezpieczeństwo były osiągalne kontaktowo na wypadek incydentów. • Zapewnić, aby każda rola miała swojego zastępcę lub aby wprowadzono środki zapewniające ciągłość na wypadek nieobecności osoby pełniącej daną rolę, tam gdzie to możliwe. • Ustanowić jasną ścieżkę raportowania od wyznaczonego pełnomocnika ds. bezpieczeństwa do kierownictwa wyższego szczebla. • Zapewnić, aby raportowanie w zakresie bezpieczeństwa było zintegrowane z ogólnymi ramami zarządzania ryzykiem podmiotu. • Przykłady dowodów wskazane w bloku TIPS: • Udokumentowane procedury reagowania na incydenty (pkt 3.5.1 załącznika do rozporządzenia), obejmujące jasne procedury kontaktowania się z rolami odpowiedzialnymi za bezpieczeństwo podczas incydentu. • Dzienniki i zapisy dotyczące wcześniejszych incydentów, pozwalające sprawdzić, czy role odpowiedzialne za bezpieczeństwo zostały niezwłocznie i skutecznie skontaktowane. • Proces zarządzania kryzysowego oraz zapisy dotyczące reagowania na incydenty, pozwalające sprawdzić zaangażowanie kierownictwa. • Aktualny schemat organizacyjny pozwalający sprawdzić, czy jasno pokazuje strukturę raportowania, w tym wyznaczonego pełnomocnika ds. bezpieczeństwa oraz jego bezpośrednią linię do kierownictwa wyższego szczebla. Schemat organizacyjny powinien być opatrzony datą, a osoba dokonująca aktualizacji powinna być odnotowana. | G14: 5.3 Role, odpowiedzialność i uprawnienia; A.5.2 Role i odpowiedzialność za bezpieczeństwo informacji | H14: 5.3, A.5.2, A.5.3, A.5.4
A15: ROZDZIAŁ 2. POLITYKA ZARZĄDZANIA RYZYKIEM
A16: 2.1 Ramy zarządzania ryzykiem
A17: 9 | B17: 2.1.1 | C17: Na potrzeby art. 21 ust. 2 lit. a) dyrektywy (UE) 2022/2555 właściwe podmioty ustanawiają i utrzymują odpowiednie ramy zarządzania ryzykiem w celu identyfikowania i eliminowania ryzyk zagrażających bezpieczeństwu sieci i systemów informatycznych. Właściwe podmioty przeprowadzają i dokumentują szacowanie ryzyka oraz, na podstawie jego wyników, ustanawiają, wdrażają i monitorują plan postępowania z ryzykiem. Wyniki szacowania ryzyka i ryzyko szczątkowe (12) są akceptowane przez kierownictwo lub, w stosownych przypadkach, przez osoby, które są rozliczalne i posiadają uprawnienia do zarządzania ryzykiem, pod warunkiem że właściwe podmioty zapewniają odpowiednie raportowanie do kierownictwa. | D17: • Podmiot może korzystać z obecnych ram zarządzania ryzykiem lub przyjąć nowe (13). Ramy zarządzania ryzykiem to ustrukturyzowane podejście stosowane przez podmiot do identyfikowania, oceniania, zarządzania i ograniczania ryzyk cyberbezpieczeństwa. • Opracować plan postępowania z ryzykiem, który powiązuje zidentyfikowane ryzyka z aktywami oraz środkami ograniczającymi powiązane ryzyka i uwzględnia co najmniej elementy (g)–(h) w pkt 2.1.2 załącznika do rozporządzenia. Plan powinien obejmować co najmniej: • opis zidentyfikowanego ryzyka oraz sposobu, w jaki może ono negatywnie wpłynąć na cele bezpieczeństwa; • opcję postępowania z ryzykiem (na przykład unikanie ryzyka, ograniczanie ryzyka, przeniesienie lub podział ryzyka bądź akceptacja ryzyka); • aktywa powiązane z ryzykiem; • środki ograniczające ryzyko; • procedurę oceny skuteczności wdrożenia środka (środków); • harmonogramy wdrożenia; oraz • role odpowiedzialne. • Uwzględnić ryzyka szczątkowe wynikające z udziału stron trzecich, na przykład naruszenia ochrony danych, nieusunięte podatności, niezgodność regulacyjną po stronie strony trzeciej oraz nadmierne uzależnienie od jednej strony trzeciej. • Zapewnić, aby ryzyka szczątkowe były akceptowane przez kierownictwo lub, w stosownych przypadkach, przez osoby, które są rozliczalne i posiadają uprawnienia do zarządzania ryzykiem, zgodnie z akceptowalnymi poziomami ryzyka szczątkowego podmiotu. • Zapewnić, aby kierownictwo lub, w stosownych przypadkach, osoby, które są rozliczalne i posiadają uprawnienia do zarządzania ryzykiem, zatwierdzały wyniki szacowania ryzyka i plan postępowania z ryzykiem. | E17: • Udokumentowane ramy zarządzania ryzykiem. • Udokumentowane wyniki wcześniejszych szacowań ryzyka. • Udokumentowany plan postępowania z ryzykiem. • Zapis zatwierdzenia wyników szacowania ryzyka przez kierownictwo lub przez osoby, które są rozliczalne i posiadają uprawnienia do zarządzania ryzykiem. • Zapis zatwierdzenia ryzyk szczątkowych przez kierownictwo lub, w stosownych przypadkach, przez osoby, które są rozliczalne i posiadają uprawnienia do zarządzania ryzykiem. | G17: 6.1.2 Szacowanie ryzyka w bezpieczeństwie informacji; 6.1.3 Postępowanie z ryzykiem w bezpieczeństwie informacji | H17: 6.1, 6.1.2, 6.1.3, 6.2, 8.2, 8.3, A.5.7, A.5.19, A.5.20, A.5.21 | I17: ISACA Glossary (definicja ryzyka szczątkowego); ISO/IEC 27005:2022 – Information security, cybersecurity and privacy protection – Guidance on managing information security risks; ENISA Compendium of risk management frameworks
A18: 10 | B18: 2.1.2 | C18: Na potrzeby pkt 2.1.1 właściwe podmioty ustanawiają procedury identyfikacji, analizy, oceny i postępowania z ryzykiem („proces zarządzania ryzykiem cyberbezpieczeństwa”). Proces zarządzania ryzykiem cyberbezpieczeństwa stanowi integralną część ogólnego procesu zarządzania ryzykiem właściwych podmiotów, w stosownych przypadkach. W ramach procesu zarządzania ryzykiem cyberbezpieczeństwa właściwe podmioty: (a) stosują metodykę zarządzania ryzykiem; (b) ustalają poziom tolerancji ryzyka zgodnie z apetytem na ryzyko właściwych podmiotów; (c) ustanawiają i utrzymują odpowiednie kryteria ryzyka; (d) zgodnie z podejściem uwzględniającym wszystkie rodzaje zagrożeń, identyfikują i dokumentują ryzyka zagrażające bezpieczeństwu sieci i systemów informatycznych, w szczególności w odniesieniu do stron trzecich oraz ryzyka, które mogą prowadzić do zakłóceń dostępności, integralności, autentyczności i poufności sieci i systemów informatycznych, w tym identyfikację pojedynczych punktów awarii; (e) analizują ryzyka zagrażające bezpieczeństwu sieci i systemów informatycznych, w tym zagrożenie, prawdopodobieństwo, skutki i poziom ryzyka, uwzględniając informacje o zagrożeniach cybernetycznych oraz podatności; (f) oceniają zidentyfikowane ryzyka na podstawie kryteriów ryzyka; (g) identyfikują i priorytetyzują odpowiednie opcje i środki postępowania z ryzykiem; (h) w sposób ciągły monitorują wdrażanie środków postępowania z ryzykiem; (i) identyfikują osoby odpowiedzialne za wdrażanie środków postępowania z ryzykiem oraz termin ich wdrożenia; (j) dokumentują wybrane środki postępowania z ryzykiem w planie postępowania z ryzykiem oraz powody uzasadniające akceptację ryzyka szczątkowego w sposób zrozumiały. | D18: • Wybrać metodykę zarządzania ryzykiem (14). • Ustalić apetyt na ryzyko podmiotu, czyli ilość ryzyka, którą podmiot jest strategicznie skłonny zaakceptować w celu osiągnięcia swoich celów. Kryteria mogą obejmować (wykaz przykładowy, niewyczerpujący): • strategiczne cele biznesowe; • oczekiwania zainteresowanych stron; • wymogi regulacyjne; oraz • kulturę organizacyjną. • Zdefiniować poziom tolerancji ryzyka, który odnosi się do poziomu ryzyka, jaki podmiot jest skłonny zaakceptować w dążeniu do swoich celów długoterminowych. Przykłady mogą obejmować (wykaz przykładowy, niewyczerpujący): • akceptowalny czas przestoju dla systemów o wysokiej krytyczności (np. do dwóch godzin przestoju miesięcznie); • tolerancję na utratę danych (np. utrata danych o niskiej krytyczności w oknie 24-godzinnym); • maksymalną stratę finansową możliwą do zaabsorbowania bez zagrożenia dla działalności (np. do 100 000 EUR kosztów odzyskiwania); • gotowość do zainwestowania określonego procentu przychodów w środki zabezpieczające (np. 5% rocznych przychodów); • przestrzeganie obowiązków regulacyjnych z określonymi karami lub grzywnami wpływającymi na akceptację ryzyka; • akceptowalny poziom niezadowolenia klientów lub negatywnego rozgłosu medialnego w wyniku naruszenia ochrony danych (np. tolerowanie jednego poważnego incydentu co kilka lat); • akceptację określonych podatności na podstawie wdrożonych środków ograniczających ryzyko (np. przestarzałe oprogramowanie, pod warunkiem że jest monitorowane i regularnie łatane); • ramy czasowe reagowania na incydenty i odzyskiwania po nich (np. maksymalnie 48 godzin na powstrzymanie incydentu); oraz • akceptację drobnych incydentów jako części normalnej działalności przy jednoczesnym priorytetowym traktowaniu poważnych zagrożeń. • Zdefiniować kryteria akceptacji ryzyka, które mogą obejmować (wykaz przykładowy, niewyczerpujący) (15): • akceptowanie ryzyk sklasyfikowanych jako niskiej wagi, takich jak drobne wycieki danych, które nie ujawniają informacji wrażliwych; • akceptowanie ryzyk ocenionych jako mające niskie prawdopodobieństwo wystąpienia (np. niektóre rzadkie rodzaje cyberataków); • akceptowanie ryzyk, jeśli koszt ograniczenia ryzyka przewyższa potencjalny skutek (np. brak modernizacji przestarzałych systemów, jeśli koszt modernizacji znacznie przewyższa potencjalne straty); • akceptowanie określonych ryzyk zgodności, jeśli istnieje plan ich rozwiązania w określonym terminie (np. tymczasowa akceptacja drobnej niezgodności z zobowiązaniem do jej usunięcia w ciągu sześciu miesięcy); • dopuszczanie określonych ryzyk w systemach lub działach o niskiej krytyczności, które nie wpływają na podstawową działalność biznesową (np. akceptowanie ryzyka w środowisku testowym); • akceptowanie określonych podatności na określony czas w trakcie planowania działań naprawczych (np. akceptowanie ryzyka przestarzałego oprogramowania przez trzy miesiące do czasu zakończenia pełnej modernizacji); • akceptowanie ryzyk, w przypadku których oczekiwany skutek incydentu jest niższy od z góry ustalonego progu finansowego (np. straty poniżej 50 000 EUR akceptowane bez dalszych działań); • akceptowanie ryzyk po poinformowaniu zainteresowanych stron i uzyskaniu ich zgody, w szczególności jeśli rozumieją one związane z tym kompromisy; oraz • akceptowanie ryzyk szczątkowych, w przypadku których istniejące środki obniżają prawdopodobieństwo lub skutek do akceptowalnego poziomu (np. stosowanie szyfrowania danych wrażliwych, ale akceptowanie ryzyka utraty danych z powodu błędu użytkownika). • Zdefiniować kryteria ryzyka, czyli sposób, w jaki podmiot ocenia istotność zidentyfikowanych ryzyk i podejmuje decyzje dotyczące ryzyka. Kryteria ryzyka mogą obejmować (wykaz przykładowy, niewyczerpujący): • zgodność z apetytem na ryzyko: akceptowanie ryzyk zgodnych z ogólnym apetytem na ryzyko organizacji, takich jak opóźnienia w wewnętrznych procesach raportowania niewpływające na obsługę klienta ani na zgodność; • ekspozycję prawną i regulacyjną: priorytetyzowanie ryzyk na podstawie potencjalnych konsekwencji prawnych lub regulacyjnych, na przykład traktowanie naruszeń ogólnego rozporządzenia o ochronie danych (RODO) dotyczących danych klientów jako ryzyka wysokiego ze względu na potencjalne kary i szkody dla reputacji; • wpływ na reputację: eskalowanie ryzyk, które mogłyby znacząco zaszkodzić wizerunkowi publicznemu organizacji, takich jak incydenty mogące przyciągnąć uwagę mediów; • szybkość narastania ryzyka: nadawanie wyższego priorytetu ryzykom o wysokiej dynamice, takim jak exploity typu zero-day, które mogą zostać wykorzystane, zanim dostępne będą łatki; • złożoność odzyskiwania: traktowanie ryzyk jako krytycznych, jeśli wiążą się ze złożonym lub czasochłonnym odzyskiwaniem, na przykład cyberataki na przestarzałe systemy o ograniczonym wsparciu dostawcy; • ryzyka nowych technologii: uznawanie ryzyk związanych z technologiami wschodzącymi za priorytetowe, na przykład systemów sztucznej inteligencji podejmujących niewytłumaczalne lub niezgodne decyzje z powodu braku przejrzystości; • wrażliwość zainteresowanych stron: ponowna ocena ryzyk istotnych dla kluczowych zainteresowanych stron, takich jak ryzyka zgłaszane przez zarząd, organy regulacyjne lub głównych klientów, nawet jeśli oceniane ryzyko techniczne jest niskie. • Kryteria przeprowadzania szacowania ryzyka cyberbezpieczeństwa odnoszą się do skutków, prawdopodobieństwa lub poziomu ryzyka. Mogą one odnosić się do (wykaz przykładowy, niewyczerpujący): • znaczenia aktywów; • dotkliwości zagrożeń; • podatności sieci i systemów informatycznych (16); • analizy skutków; • istniejących środków; oraz • obaw lub wymagań zainteresowanych stron. • Sporządzić wykaz głównych ryzyk dla bezpieczeństwa sieci i systemów informatycznych, uwzględniając główne zagrożenia dla aktywów objętych zakresem. • Zapewnić, aby każde ryzyko było powiązane z co najmniej jedną: • z opcji postępowania z ryzykiem lub ich kombinacją, zgodnie z wynikami szacowania ryzyka i zgodnie z polityką bezpieczeństwa sieci i systemów informatycznych podmiotu (motyw 11 rozporządzenia); oraz • konkretnym środkiem postępowania z ryzykiem. • Opracować plany postępowania z ryzykiem uwzględniające elementy z punktów (i) i (j) w pkt 2.1.2 załącznika do rozporządzenia. • Przypisać odpowiedzialność odpowiednim osobom lub zespołom za realizację tych planów postępowania z ryzykiem. | E18: • Udokumentowany proces zarządzania ryzykiem cyberbezpieczeństwa uwzględniający elementy, o których mowa w pkt 2.1.2 załącznika do rozporządzenia. • Udokumentowana metodyka i/lub narzędzia zarządzania ryzykiem uwzględniające co najmniej elementy (a)–(f) w pkt 2.1.2 załącznika do rozporządzenia. • Wykaz głównych ryzyk opisanych na wysokim poziomie ogólności, w tym powiązane zagrożenia i nieusunięte podatności oraz ich potencjalny wpływ na bezpieczeństwo sieci i usług. • Potwierdzenie, że podmiot stosuje podejście uwzględniające wszystkie rodzaje zagrożeń (sprawdzenie, czy podejście do szacowania ryzyka obejmuje szeroki zakres potencjalnych zagrożeń i ryzyk, nie tylko cybernetycznych, lecz także naturalnych lub spowodowanych przez człowieka, przypadkowych lub celowych). • Dowody, że ryzyka szczątkowe wynikające z zależności od stron trzecich są wyszczególnione i ograniczane. | G18: 6.1.1 Działania odnoszące się do ryzyk i szans – postanowienia ogólne; 6.1.2 Szacowanie ryzyka w bezpieczeństwie informacji; 6.1.3 Postępowanie z ryzykiem w bezpieczeństwie informacji | H18: 6.1, 6.1.2, 6.1.3, 6.2, 8.2, 8.3, A.5.7, A.5.19, A.5.20, A.5.21 | I18: ISO/IEC 27005:2022 (kryteria ryzyka – pkt 6.4); ENISA Compendium of risk management frameworks with potential interoperability
A19: 11 | B19: 2.1.3 | C19: Podczas identyfikowania i priorytetyzowania odpowiednich opcji i środków postępowania z ryzykiem, właściwe podmioty uwzględniają wyniki szacowania ryzyka, wyniki procedury oceny skuteczności środków zarządzania ryzykiem cyberbezpieczeństwa, koszt wdrożenia w stosunku do oczekiwanych korzyści, klasyfikację aktywów, o której mowa w pkt 12.1, oraz analizę wpływu na działalność, o której mowa w pkt 4.1.3. | D19: • Zapewnić, aby personel uwzględniał elementy, o których mowa w pkt 2.1.3 załącznika do rozporządzenia. | E19: • Wytyczne dla personelu dotyczące oceny ryzyka, uwzględniające elementy, o których mowa w pkt 2.1.3 załącznika do rozporządzenia. | G19: 6.1.3 Postępowanie z ryzykiem w bezpieczeństwie informacji | H19: 6.1, 6.1.2, 6.1.3, 6.2, 8.2, 8.3, A.5.7, A.5.19, A.5.20, A.5.21
A20: 12 | B20: 2.1.4 | C20: Właściwe podmioty dokonują przeglądu i, w stosownych przypadkach, aktualizują wyniki szacowania ryzyka i plan postępowania z ryzykiem w zaplanowanych odstępach czasu i co najmniej raz w roku oraz w przypadku wystąpienia istotnych zmian w działalności lub w ryzyku, lub poważnych incydentów. | D20: • Dokonywać przeglądu wyników szacowania ryzyka i postępowania z ryzykiem co najmniej raz w roku, uwzględniając: • wyniki audytów i wcześniejszych przeglądów; • status wdrożenia środków opisanych w planie postępowania z ryzykiem (patrz polityka oceny skuteczności środków zgodnie z pkt 7.1.1 załącznika do rozporządzenia); • zmiany w systemach informatycznych; • zmiany w środowisku eksploatacji; • ustalenia z przeglądów po incydentach (sekcja 3.6); oraz • trendy i zmiany związane z zagrożeniami i podatnościami, ponieważ mogą one wpływać na ryzyka. | E20: • Dokumentacja procesu przeglądu. • Komentarze z przeglądu lub rejestry zmian dotyczące szacowania ryzyka i planu postępowania z ryzykiem. | F20: • Poniższe wskazówki (TIPS) dotyczą całej sekcji 2.1: • Zapewnić, aby kluczowy personel stosował metodykę i narzędzia zarządzania ryzykiem. • Ogólnie podmiot dysponuje czterema opcjami postępowania z ryzykiem, przypisanymi do każdego ryzyka. Każdej opcji powinny towarzyszyć konkretne środki postępowania z ryzykiem (wykaz przykładowy, niewyczerpujący): • Unikanie ryzyka: jako środek postępowania z tym ryzykiem podmiot może zdecydować się na wyeliminowanie działań lub warunków narażających go na to ryzyko, na przykład zaprzestanie korzystania z podatnej aplikacji. • Ograniczanie ryzyka: jako środek postępowania z tym ryzykiem podmiot może zdecydować się na wdrożenie środków zmniejszających prawdopodobieństwo lub skutek takiego ryzyka. Może to obejmować instalację zapór sieciowych, stosowanie szyfrowania oraz prowadzenie regularnych szkoleń z zakresu bezpieczeństwa dla pracowników. • Przeniesienie lub podział ryzyka: jako środek postępowania z tym ryzykiem podmiot może zdecydować się na przeniesienie części skutków ryzyka na inną stronę, zazwyczaj poprzez ubezpieczenie lub zlecenie określonych funkcji stronom trzecim. Należy jednak zauważyć, że takie ustalenia nie eliminują ogólnej rozliczalności podmiotu ani jego obowiązków prawnych związanych z ryzykiem. Na przykład zakup ubezpieczenia cybernetycznego może pokryć potencjalne koszty naruszenia ochrony danych, ale podmiot pozostaje odpowiedzialny za wdrożenie odpowiednich środków bezpieczeństwa i przestrzeganie przepisów o ochronie danych. • Akceptacja ryzyka: jako środek postępowania z tym ryzykiem podmiot może zdecydować się na uznanie ryzyka i podjęcie decyzji o jego akceptacji bez podejmowania konkretnych działań, często dlatego że koszt ograniczenia ryzyka jest wyższy niż potencjalny skutek. Podejściu temu zazwyczaj towarzyszy plan awaryjny na wypadek materializacji ryzyka. Podejście powinno być jasno udokumentowane, poparte realistycznym oszacowaniem potencjalnych kosztów oraz obejmować rezerwy finansowe na pokrycie skutków w przypadku materializacji ryzyka. • Zapewnić, aby ryzyko wynikające z podatności zaklasyfikowanych do najwyższej kategorii (np. „krytyczna” we wspólnym systemie oceny podatności (CVSS)) lub równoważnej nie było akceptowane, o ile to możliwe (sekcja 6.10). • W odniesieniu do planów postępowania z ryzykiem podmiot może dodatkowo uwzględnić: • ustalenia z przeglądu; • etapy wdrożenia; oraz • potrzebne zasoby. • Zarządzać wszelkimi wyjątkami we wdrażaniu planów postępowania z ryzykiem. • Przykłady dowodów wskazane w bloku TIPS: • Udokumentowane plany działań opracowane w odpowiedzi na ustalenia z przeglądu. • Znajomość głównych ryzyk przez kluczowy personel (np. dowody z e-maili, wywiadów i sesji podnoszących świadomość). • Udokumentowane wyjątki we wdrażaniu planu postępowania z ryzykiem. • Rejestr ryzyka. | G20: 6.1.3 Postępowanie z ryzykiem w bezpieczeństwie informacji | H20: 6.1, 6.1.2, 6.1.3, 6.2, 8.2, 8.3, A.5.7, A.5.19, A.5.20, A.5.21
A21: 2.2 Monitorowanie zgodności
A22: 13 | B22: 2.2.1 | C22: Właściwe podmioty regularnie dokonują przeglądu zgodności ze swoimi politykami bezpieczeństwa sieci i systemów informatycznych, politykami tematycznymi, zasadami i standardami. Kierownictwo jest informowane o stanie bezpieczeństwa sieci i informacji na podstawie przeglądów zgodności w drodze regularnego raportowania. | D22: • Opracować znormalizowany format raportu do raportowania kierownictwu. Rozważyć następujące elementy (wykaz przykładowy, niewyczerpujący): • kluczowe wskaźniki; • status zgodności, w tym wyjątki od polityki; • zidentyfikowane ryzyka; oraz • zalecane działania. • Raporty są sporządzane i przedstawiane kierownictwu co najmniej raz w roku. | E22: • Ostatnie raporty z przeglądu zgodności. • Dzienniki wyjątków od polityki. Przykłady takich wyjątków obejmują między innymi sytuacje wymienione w akapicie drugim art. 2 ust. 2 oraz te wskazane w motywie 5 rozporządzenia. Inne przykłady obejmują (wykaz przykładowy, niewyczerpujący): • aktualizacje oprogramowania: jeśli system opiera się na starszej wersji oprogramowania niekompatybilnej z najnowszą aktualizacją, można przyznać wyjątek pozwalający opóźnić aktualizację do czasu znalezienia zgodnego rozwiązania; • kontrolę dostępu: jeśli dany użytkownik lub system nie może obsługiwać mechanizmu uwierzytelniania (np. uwierzytelniania wieloskładnikowego (MFA)) ze względu na ograniczenia techniczne, można przyznać wyjątek na czas wdrażania środków alternatywnych; oraz • szyfrowanie: jeśli system dziedziczony nie obsługuje szyfrowania, można przyznać wyjątek do czasu wymiany systemu. • Zapisy dotyczące wniosku o wyjątek i jego zatwierdzenia, wraz ze szczegółami wdrożonych środków kompensujących. | G22: 9.1 Monitorowanie, pomiary, analiza i ocena; A.5.36 Zgodność z politykami, zasadami i standardami dotyczącymi bezpieczeństwa informacji | H22: 9.2, A.5.31, A.5.35, A.5.36 | I22: art. 2 ust. 2 akapit drugi oraz motyw 5 rozporządzenia (UE) 2024/2690
A23: 14 | B23: 2.2.2 | C23: Właściwe podmioty wdrażają skuteczny system raportowania zgodności, odpowiedni do ich struktur, środowisk operacyjnych i krajobrazów zagrożeń. System raportowania zgodności musi być w stanie zapewnić kierownictwu rzetelny obraz aktualnego stanu zarządzania ryzykiem przez właściwe podmioty. | D23: • Ustanowić procedury monitorowania zgodności, obejmujące (wykaz przykładowy, niewyczerpujący): • cele i ogólne podejście do monitorowania zgodności; • odpowiednie polityki bezpieczeństwa podlegające monitorowaniu zgodności; • częstotliwość przeglądów zgodności; • kto powinien przeprowadzać przeglądy zgodności (wewnętrznie lub zewnętrznie); oraz • szablony raportów z przeglądu zgodności. • Analizować i oceniać wyniki przeglądu zgodności. | E23: • Udokumentowane procedury monitorowania zgodności. • Udokumentowana analiza i ocena wyników, w tym aktualny stan zarządzania ryzykiem podmiotu. • Szczegółowe plany monitorowania zgodności, w tym długoterminowe, ogólne cele i planowanie. | G23: 9.1 Monitorowanie, pomiary, analiza i ocena; A.5.36 Zgodność z politykami, zasadami i standardami dotyczącymi bezpieczeństwa informacji | H23: 9.2, A.5.31, A.5.35, A.5.36
A24: 15 | B24: 2.2.3 | C24: Właściwe podmioty przeprowadzają monitorowanie zgodności w zaplanowanych odstępach czasu oraz w przypadku wystąpienia poważnych incydentów lub istotnych zmian w działalności lub w ryzyku. | D24: • Monitorowanie zgodności powinno odbywać się co najmniej raz w roku, z uwzględnieniem: • poważnych incydentów, jeśli wystąpiły; • zmian w środowisku eksploatacji; • zmian w krajobrazie zagrożeń oraz wymogach prawnych i regulacyjnych w zakresie cyberbezpieczeństwa; • zmian w normach; oraz • zmian w polityce bezpieczeństwa sieci i systemów informatycznych i/lub politykach tematycznych. | E24: • Wszelkie działania korygujące wynikające z ocen i testów, w tym zmiany środków wprowadzone przez podmiot po ocenie skuteczności środków zgodnie z pkt 7.1.1 załącznika do rozporządzenia. • Dowody, że uwzględniono raporty z wyciągniętych wniosków lub analizy przyczyn źródłowych wcześniejszych incydentów, o ile takie wystąpiły. | G24: 9.1 Monitorowanie, pomiary, analiza i ocena | H24: 9.2, A.5.31, A.5.35, A.5.36
A25: 2.3 Niezależny przegląd bezpieczeństwa informacji i sieci
A26: 16 | B26: 2.3.1 | C26: Właściwe podmioty dokonują niezależnego przeglądu swojego podejścia do zarządzania bezpieczeństwem sieci i systemów informatycznych oraz jego wdrożenia, obejmującego ludzi, procesy i technologie. | D26: • Zapewnić, aby niezależny przegląd był przeprowadzany przez osobę lub osoby posiadające odpowiednie kompetencje (wykaz przykładowy, niewyczerpujący): • wiedzę techniczną z zakresu cyberbezpieczeństwa, na przykład ramy cyberbezpieczeństwa (ISO/IEC 27001, ramy cyberbezpieczeństwa Narodowego Instytutu Standardów i Technologii (NIST) itp.); • wiedzę branżową; • umiejętności w zakresie szacowania ryzyka; • wiedzę w zakresie zgodności i regulacji, na przykład dyrektywy NIS2, RODO oraz aktu o cyfrowej odporności operacyjnej (DORA); • dobrą znajomość dobrych praktyk w zakresie audytu; oraz • dobre zrozumienie, kiedy wymagana jest certyfikacja techniczna i zgodność oraz kiedy musi to zostać udokumentowane w raporcie ze zgodności i certyfikacji, aby zapewnić prawidłowe wdrożenie globalnych norm. | E26: • Udokumentowane wyniki przeglądu lub audytu. • Dowody kompetencji niezależnych osób dokonujących przeglądu, na przykład doświadczenie zawodowe i kwalifikacje akademickie, certyfikaty takie jak certyfikowany audytor systemów informatycznych, certyfikowany specjalista ds. bezpieczeństwa systemów informatycznych, certyfikowany menedżer bezpieczeństwa informacji itp. | G26: A.5.35 Niezależny przegląd bezpieczeństwa informacji; 9.2.1 Audyt wewnętrzny – postanowienia ogólne | H26: 9.2, 10.1, A.5.35, A.8.34 | I26: ISO/IEC 27001; ramy cyberbezpieczeństwa NIST; RODO; rozporządzenie DORA
A27: 17 | B27: 2.3.2 | C27: Właściwe podmioty opracowują i utrzymują procesy przeprowadzania niezależnych przeglądów, które są prowadzone przez osoby posiadające odpowiednie kompetencje audytowe. W przypadku gdy niezależny przegląd jest przeprowadzany przez pracowników właściwego podmiotu, osoby przeprowadzające przeglądy nie mogą podlegać linii podległości personelu obszaru objętego przeglądem. Jeżeli wielkość właściwych podmiotów nie pozwala na takie rozdzielenie linii podległości, właściwe podmioty wprowadzają alternatywne środki gwarantujące bezstronność przeglądów. | D27: • Ustanowić proces niezależnego przeglądu bezpieczeństwa informacji i sieci, obejmujący (wykaz przykładowy i niewyczerpujący): • zakres i cel niezależnych przeglądów (np. zgodność, szacowanie ryzyka, przestrzeganie polityki); • metodykę przeglądów (np. znormalizowana lista kontrolna, oparta na normie, doraźna, sposób uwzględniania procesów testowanych w czasie rzeczywistym pod kątem zgodności (np. usługa chmurowa) lub tych podlegających okresowej ocenie); • rolę komitetu przeglądu; • częstotliwość niezależnych przeglądów; • kto powinien przeprowadzać niezależne przeglądy (wewnętrznie lub zewnętrznie); oraz • szablony raportów z niezależnego przeglądu. • Utrzymywać niezależność zgodnie z pkt 2.3.2 załącznika do rozporządzenia. • W stosownych przypadkach rozważyć alternatywne środki wobec rozdzielenia linii podległości (wykaz przykładowy i niewyczerpujący): • rotację personelu przeprowadzającego przeglądy; • powołanie komitetu przeglądu złożonego z członków różnych działów; • zewnętrznego dostawcę usług przeglądu będącego stroną trzecią. | E27: • Udokumentowany proces niezależnego przeglądu bezpieczeństwa informacji i sieci. • Deklaracje braku konfliktu interesów. • Umowy z zewnętrznymi dostawcami usług przeglądu będącymi stroną trzecią. • Szczegółowe plany niezależnych przeglądów. | G27: A.5.35 Niezależny przegląd bezpieczeństwa informacji; 9.2.2 Program audytów wewnętrznych | H27: 9.2, 10.1, A.5.35, A.8.34
A28: 18 | B28: 2.3.3 | C28: Wyniki niezależnych przeglądów, w tym wyniki monitorowania zgodności zgodnie z pkt 2.2 oraz monitorowania i pomiarów zgodnie z pkt 7, są raportowane kierownictwu. Działania korygujące są podejmowane lub ryzyko szczątkowe jest akceptowane zgodnie z kryteriami akceptacji ryzyka właściwych podmiotów. | D28: • Analizować i oceniać wyniki niezależnego przeglądu. • Raportować wyniki kierownictwu. • Stosować znormalizowany format raportu do raportowania kierownictwu. Rozważyć następujące elementy (wykaz przykładowy, niewyczerpujący): • streszczenie zarządcze, w tym zakres i kluczowe ustalenia; • metodykę; • szczegółowe ustalenia, w tym zidentyfikowane luki i przypadki niezgodności; • zalecenia; oraz • wnioski. • Raporty są sporządzane i przedstawiane kierownictwu co najmniej raz w roku. • Podejmować działania korygujące albo uzasadniać, akceptować i dokumentować ryzyka szczątkowe. • Wyniki niezależnych przeglądów powinny być systematycznie odzwierciedlane w wynikach szacowania ryzyka i planach postępowania z ryzykiem (pkt 2.1 załącznika do rozporządzenia). W szczególności, gdy ryzyko zostaje zidentyfikowane lub ponownie ocenione w toku niezależnego przeglądu, odpowiednie szacowanie ryzyka powinno zostać stosownie zaktualizowane. Zapewnia to, że profil ryzyka pozostaje aktualny oraz że wszelkie nowo pojawiające się lub zmieniające się ryzyka są odpowiednio uwzględniane i eliminowane w ramach ogólnych ram zarządzania ryzykiem. | E28: • Udokumentowana analiza i ocena wyników, w tym wszelkie ryzyka szczątkowe. • Protokoły z wcześniejszych przeglądów. • Wszelkie działania korygujące wynikające z ocen i testów, w tym zmiany środków wprowadzone przez podmiot po ocenie skuteczności środków zgodnie z pkt 7.1.1 załącznika do rozporządzenia. • Dokumentacja wszelkich działań korygujących. • Zatwierdzenie budżetu na wszelkie działania korygujące. • Najnowsze wyniki monitorowania zgodności i audytów. • Zapisy z zaktualizowanego rejestru ryzyka. | G28: A.5.35 Niezależny przegląd bezpieczeństwa informacji; 9.3.1 Przegląd zarządzania – postanowienia ogólne; 10.2 Niezgodności i działania korygujące | H28: 9.2, 10.1, A.5.35, A.8.34
A29: 19 | B29: 2.3.4 | C29: Niezależne przeglądy odbywają się w zaplanowanych odstępach czasu oraz w przypadku wystąpienia poważnych incydentów lub istotnych zmian w działalności lub w ryzyku. | D29: • Niezależne przeglądy powinny odbywać się co najmniej raz w roku, z uwzględnieniem: • poważnych incydentów, jeśli wystąpiły; • zmian w środowisku eksploatacji; • zmian w krajobrazie zagrożeń oraz wymogach prawnych i regulacyjnych w zakresie cyberbezpieczeństwa; oraz • zmian w polityce bezpieczeństwa sieci i systemów informatycznych i/lub politykach tematycznych. | E29: • Raporty z niezależnych przeglądów dokumentujące ustalenia, zalecenia i podjęte działania w odpowiedzi na nie. • Streszczenia wcześniejszych niezależnych przeglądów, wskazujące zakres i częstotliwość. • Zapisy dotyczące poważnych incydentów, które wystąpiły w minionym roku, wraz z odpowiednią dokumentacją przeglądu lub analizy. • Roczne plany lub harmonogramy niezależnych przeglądów określające zakres niezależnych przeglądów i konkretne oceniane środki. | F29: • Poniższe wskazówki (TIPS) dotyczą całej sekcji 2.3: • Zapewnić, aby proces niezależnego przeglądu był zatwierdzany przez kierownictwo. • Zapewnić, aby wyniki przeglądu były zatwierdzane przez kierownictwo. • Przykłady dowodów wskazane w bloku TIPS: • Udokumentowane procedury zatwierdzone przez kierownictwo. • Zatwierdzenie ryzyk szczątkowych przez kierownictwo. | G29: A.5.35 Niezależny przegląd bezpieczeństwa informacji; 9.2.1 Audyt wewnętrzny – postanowienia ogólne | H29: 9.2, 10.1, A.5.35, A.8.34
A30: ROZDZIAŁ 3. OBSŁUGA INCYDENTÓW
A31: 3.1 Polityka obsługi incydentów
A32: 20 | B32: 3.1.1 | C32: Do celów art. 21 ust. 2 lit. b) dyrektywy (UE) 2022/2555 podmioty odpowiednie ustanawiają i wdrażają politykę obsługi incydentów określającą role, obowiązki i procedury wykrywania, analizowania, powstrzymywania lub reagowania na incydenty, usuwania ich skutków, dokumentowania i zgłaszania incydentów w odpowiednim czasie. | D32: • Określić jasne cele polityki obsługi incydentów. • Zapewnić zgodność polityki z właściwymi przepisami prawa, regulacjami i standardami branżowymi. | E32: • Udokumentowana polityka obsługi incydentów zawierająca co najmniej elementy, o których mowa w pkt 3.1.2 załącznika do rozporządzenia. • Udokumentowane standardy i/lub dobre praktyki uwzględnione przy tworzeniu tej polityki. | G32: A.5.24 Planowanie i przygotowanie do zarządzania incydentami związanymi z bezpieczeństwem informacji; A.5.2 Role i odpowiedzialność za bezpieczeństwo informacji; 5.2 Polityka | H32: A.5.24 | I32: NIST SP 800-61r3 „Incident response recommendations and considerations for cybersecurity risk management”
